BEGIN:VCALENDAR
VERSION:2.0
PRODID:-//ChamberMaster//Event Calendar 2.0//EN
METHOD:PUBLISH
X-PUBLISHED-TTL:P3D
REFRESH-INTERVAL:P3D
CALSCALE:GREGORIAN
BEGIN:VEVENT
DTSTART:20180215T220000Z
DTEND:20180215T233000Z
X-MICROSOFT-CDO-ALLDAYEVENT:FALSE
SUMMARY:Board Of Directors Meeting
DESCRIPTION:Board Of Directors\n\nMeets 3rd Thursday of Each Month
X-ALT-DESC;FMTTYPE=text/html:<div style="text-align: center\;"><br />\n<br />\n<strong>Board Of Directors<br />\nMeets 3rd&nbsp\;Thursday of&nbsp\;Each Month</strong></div>\n
LOCATION:Chamber Office 110 N. Maitland Avenue Maitland\, FL 32751
UID:e.1857.4346
SEQUENCE:3
DTSTAMP:20260425T130628Z
URL:https://www.maitlandchamber.com/events/details/board-of-directors-meeting-02-15-2018-4346
END:VEVENT

END:VCALENDAR
