BEGIN:VCALENDAR
VERSION:2.0
PRODID:-//ChamberMaster//Event Calendar 2.0//EN
METHOD:PUBLISH
X-PUBLISHED-TTL:P3D
REFRESH-INTERVAL:P3D
CALSCALE:GREGORIAN
BEGIN:VEVENT
DTSTART:20170920T120000Z
DTEND:20170920T133000Z
X-MICROSOFT-CDO-ALLDAYEVENT:FALSE
SUMMARY:Board Of Directors Meeting
DESCRIPTION:THIS IS A DATE CHANGE DUE TO\n\nHURRICANE IRMA\n\n \n\nBoard Of Directors\n\nMeets 2nd Wednesday of Each Month
X-ALT-DESC;FMTTYPE=text/html:<h4 style="text-align: center\;"><br />\n<span style="font-size:18px\;"><strong><span style="color:#FF0000\;">THIS IS A DATE CHANGE DUE TO<br />\nHURRICANE IRMA</span></strong></span></h4>\n\n<div style="text-align: center\;">&nbsp\;</div>\n\n<h4 style="text-align: center\;"><span style="font-size:14px\;"><strong>Board Of Directors<br />\nMeets 2nd Wednesday of&nbsp\;Each Month</strong></span></h4>\n
LOCATION:Chamber Office 110 N. Maitland Avenue Maitland\, FL 32751
UID:e.1857.3820
SEQUENCE:3
DTSTAMP:20260425T220221Z
URL:https://www.maitlandchamber.com/events/details/board-of-directors-meeting-09-13-2017-3820
END:VEVENT

END:VCALENDAR
