BEGIN:VCALENDAR
VERSION:2.0
PRODID:-//ChamberMaster//Event Calendar 2.0//EN
METHOD:PUBLISH
X-PUBLISHED-TTL:P3D
REFRESH-INTERVAL:P3D
CALSCALE:GREGORIAN
BEGIN:VEVENT
DTSTART:20180926T210000Z
DTEND:20180926T223000Z
X-MICROSOFT-CDO-ALLDAYEVENT:FALSE
SUMMARY:Board Of Directors Meeting
DESCRIPTION:Board Of Directors\n\nMeets 3rd Thursday of Each Month\n\n \n\nThis is a One-Time Date Change
X-ALT-DESC;FMTTYPE=text/html:<div style="text-align: center\;">&nbsp\;</div>\n\n<h4 style="text-align: center\;"><strong><span style="font-size:14px\;">Board Of Directors<br />\n<s>Meets 3rd&nbsp\;Thursday of&nbsp\;Each Month</s></span></strong></h4>\n\n<div style="text-align: center\;">&nbsp\;</div>\n\n<h4 style="text-align: center\;"><strong><span style="color:#FF0000\;"><span style="font-size:16px\;">This is a One-Time Date Change</span></span></strong></h4>\n
LOCATION:Chamber Office 110 N. Maitland Avenue Maitland\, FL 32751
UID:e.1857.4353
SEQUENCE:3
DTSTAMP:20260424T224534Z
URL:https://www.maitlandchamber.com/events/details/board-of-directors-meeting-09-20-2018-4353
END:VEVENT

END:VCALENDAR
