BEGIN:VCALENDAR
VERSION:2.0
PRODID:-//ChamberMaster//Event Calendar 2.0//EN
METHOD:PUBLISH
X-PUBLISHED-TTL:P3D
REFRESH-INTERVAL:P3D
CALSCALE:GREGORIAN
BEGIN:VEVENT
DTSTART:20191108T190000Z
DTEND:20191108T230000Z
X-MICROSOFT-CDO-ALLDAYEVENT:FALSE
SUMMARY:Candy Buy Back\, Treat the Troops!
DESCRIPTION:West Maitland Dentistry will hold it's first annual Candy Buy Back event to support the troops!  We will buy back Halloween candy and donate it to our troops that are serving overseas along with oral hygiene kits. \n\n	Kids will receive $1 per pound of unopened candy\n	5 lb limit\n	Kids can write or draw thank you cards to be sent in the care packages being sent to the troops\n	Children must be present with an adult to partake\n\nAll Halloween candy bought back will be donated to Operation Shoebox's local chapter located in Belleview as well as toothbrushes\, toothpaste and floss.  Operation Shoebox sends a handful of candy with each care package they send to our armed forces serving overseas so they can have a taste of home.
X-ALT-DESC;FMTTYPE=text/html:West Maitland Dentistry will hold it&#39\;s first annual <span style="color:#FF8C00">Candy Buy Back</span> event to support the troops! &nbsp\;We will buy back Halloween candy and donate it to our troops that are serving overseas along with oral hygiene kits.&nbsp\;\n<ul>\n	<li>Kids will receive $1 per pound of unopened candy</li>\n	<li>5 lb limit</li>\n	<li>Kids can write or draw thank you cards to be sent in the care packages being sent to the troops</li>\n	<li>Children must be present with an adult to partake</li>\n</ul>\nAll Halloween candy bought back will be donated to Operation Shoebox&#39\;s local chapter located in Belleview as well as toothbrushes\, toothpaste and floss. &nbsp\;Operation Shoebox sends a handful of candy with each care package they send to our armed forces serving overseas so they can have a taste of home.
LOCATION:West Maitland Dentistry 2700 Westhall Lane Suite 121 Maitland\, FL 32751
UID:e.1857.5677
SEQUENCE:3
DTSTAMP:20260423T220506Z
URL:https://www.maitlandchamber.com/events/details/candy-buy-back-treat-the-troops-5677
END:VEVENT

END:VCALENDAR
