BEGIN:VCALENDAR
VERSION:2.0
PRODID:-//ChamberMaster//Event Calendar 2.0//EN
METHOD:PUBLISH
X-PUBLISHED-TTL:P3D
REFRESH-INTERVAL:P3D
CALSCALE:GREGORIAN
BEGIN:VEVENT
DTSTART;VALUE=DATE:20170804
DTEND;VALUE=DATE:20170805
TRANSP:TRANSPARENT
X-MICROSOFT-CDO-ALLDAYEVENT:TRUE
SUMMARY:Chamber Closed
DESCRIPTION:The Chamber Office Will Be Closed\n\nFriday\n\nAugust 4\, 2017\n\n\n\nWe Will Reopen On\n\nMonday\, August 7\, 2017
X-ALT-DESC;FMTTYPE=text/html:&nbsp\;\n<h4 style="text-align: center\;"><br />\n<span style="font-size:18px\;"><strong><span style="font-size:20px\;">The Chamber Office Will Be Closed<br />\nFriday<br />\nAugust 4\, 2017<br />\n<br />\nWe Will Reopen On<br />\nMonday\, August 7\, 2017</span></strong></span><br />\n<br />\n&nbsp\;</h4>\n
LOCATION:
UID:e.1857.4282
SEQUENCE:3
DTSTAMP:20260425T215923Z
URL:https://www.maitlandchamber.com/events/details/chamber-closed-4282
END:VEVENT

END:VCALENDAR
