BEGIN:VCALENDAR
VERSION:2.0
PRODID:-//ChamberMaster//Event Calendar 2.0//EN
METHOD:PUBLISH
X-PUBLISHED-TTL:P3D
REFRESH-INTERVAL:P3D
CALSCALE:GREGORIAN
BEGIN:VEVENT
DTSTART;VALUE=DATE:20170901
DTEND;VALUE=DATE:20170902
TRANSP:TRANSPARENT
X-MICROSOFT-CDO-ALLDAYEVENT:TRUE
SUMMARY:Chamber Closed
DESCRIPTION:The Chamber Office Will Be Closed\n\nFriday\n\nSeptember 1\, 2017
X-ALT-DESC;FMTTYPE=text/html:&nbsp\;\n<h4 style="text-align: center\;"><br />\n<span style="font-size:18px\;"><strong><span style="font-size:20px\;">The Chamber Office Will Be Closed<br />\nFriday<br />\nSeptember 1\, 2017</span></strong></span><br />\n<br />\n<br />\n<br />\n&nbsp\;</h4>\n
LOCATION:
UID:e.1857.4286
SEQUENCE:3
DTSTAMP:20260425T200753Z
URL:https://www.maitlandchamber.com/events/details/chamber-closed-4286
END:VEVENT

END:VCALENDAR
