BEGIN:VCALENDAR
VERSION:2.0
PRODID:-//ChamberMaster//Event Calendar 2.0//EN
METHOD:PUBLISH
X-PUBLISHED-TTL:P3D
REFRESH-INTERVAL:P3D
CALSCALE:GREGORIAN
BEGIN:VEVENT
DTSTART;VALUE=DATE:20171221
DTEND;VALUE=DATE:20180108
TRANSP:TRANSPARENT
X-MICROSOFT-CDO-ALLDAYEVENT:TRUE
SUMMARY:Chamber Closed - Christmas & New Year's Holiday Season
DESCRIPTION:The Chamber Office Will Be Closed\n\nFor The Holiday Season Beginning\n\nThursday\, December 21\, 2017\n\n& Will Reopen On\n\nMonday\, January 8\, 2018
X-ALT-DESC;FMTTYPE=text/html:<h4 style="text-align: center\;"><br />\n<strong><span style="font-size:18px\;">The Chamber Office Will Be Closed<br />\nFor The Holiday Season Beginning<br />\nThursday\, December 21\, 2017</span></strong><br />\n<strong><span style="font-size:18px\;">&amp\; Will Reopen On<br />\nMonday\, January 8\, 2018</span></strong></h4>\n<br />\n&nbsp\;
LOCATION:
UID:e.1857.4304
SEQUENCE:3
DTSTAMP:20260425T130646Z
URL:https://www.maitlandchamber.com/events/details/chamber-closed-christmas-new-year-s-holiday-season-4304
END:VEVENT

END:VCALENDAR
