BEGIN:VCALENDAR
VERSION:2.0
PRODID:-//ChamberMaster//Event Calendar 2.0//EN
METHOD:PUBLISH
X-PUBLISHED-TTL:P3D
REFRESH-INTERVAL:P3D
CALSCALE:GREGORIAN
BEGIN:VEVENT
DTSTART;VALUE=DATE:20180219
DTEND;VALUE=DATE:20180220
TRANSP:TRANSPARENT
X-MICROSOFT-CDO-ALLDAYEVENT:TRUE
SUMMARY:Chamber Closed - Presidents' Day
DESCRIPTION:The Chamber Office\n\nWill Be Closed On\n\nMonday\, February 19\, 2018\n\nIn Observance of\n\nPresidents' Day
X-ALT-DESC;FMTTYPE=text/html:<div style="text-align: center\;">&nbsp\;</div>\n\n<h4 style="text-align: center\;"><span style="font-size:20px\;"><strong>The Chamber Office<br />\nWill Be Closed On<br />\nMonday\,&nbsp\;February 19\, 2018<br />\nIn Observance of<br />\nPresidents&#39\; Day</strong></span></h4>\n
LOCATION:
UID:e.1857.4411
SEQUENCE:3
DTSTAMP:20260425T111507Z
URL:https://www.maitlandchamber.com/events/details/chamber-closed-presidents-day-4411
END:VEVENT

END:VCALENDAR
