BEGIN:VCALENDAR
VERSION:2.0
PRODID:-//ChamberMaster//Event Calendar 2.0//EN
METHOD:PUBLISH
X-PUBLISHED-TTL:P3D
REFRESH-INTERVAL:P3D
CALSCALE:GREGORIAN
BEGIN:VEVENT
DTSTART;VALUE=DATE:20171123
DTEND;VALUE=DATE:20171125
TRANSP:TRANSPARENT
X-MICROSOFT-CDO-ALLDAYEVENT:TRUE
SUMMARY:Chamber Closed - Thanksgiving
DESCRIPTION:The Chamber Office Will Be Closed\n\nFor The Thanksgiving Holidays\n\nThursday & Friday\n\nNovember 23 & 24\, 2017
X-ALT-DESC;FMTTYPE=text/html:&nbsp\;\n<div style="text-align: center\;"><span style="font-size:18px\;"><strong>The Chamber Office Will Be Closed<br />\nFor The Thanksgiving Holidays<br />\nThursday &amp\; Friday<br />\nNovember 23 &amp\; 24\, 2017</strong></span><br />\n&nbsp\;</div>\n
LOCATION:
UID:e.1857.4303
SEQUENCE:3
DTSTAMP:20260425T163930Z
URL:https://www.maitlandchamber.com/events/details/chamber-closed-thanksgiving-4303
END:VEVENT

END:VCALENDAR
