BEGIN:VCALENDAR
VERSION:2.0
PRODID:-//ChamberMaster//Event Calendar 2.0//EN
METHOD:PUBLISH
X-PUBLISHED-TTL:P3D
REFRESH-INTERVAL:P3D
CALSCALE:GREGORIAN
BEGIN:VEVENT
DTSTART;VALUE=DATE:20171113
DTEND;VALUE=DATE:20171114
TRANSP:TRANSPARENT
X-MICROSOFT-CDO-ALLDAYEVENT:TRUE
SUMMARY:Chamber Closed - Veteran's Day
DESCRIPTION:The Chamber Office Will Be Closed\n\nMonday\, November 13\, 2017\n\nIn Honor Of Veteran's Day
X-ALT-DESC;FMTTYPE=text/html:&nbsp\;\n<div style="text-align: center\;">&nbsp\;</div>\n\n<h4 style="text-align: center\;"><span style="font-size:18px\;"><strong>The Chamber Office Will Be Closed<br />\nMonday\, November 13\, 2017<br />\nIn Honor Of Veteran&#39\;s&nbsp\;Day</strong></span></h4>\n
LOCATION:
UID:e.1857.4302
SEQUENCE:3
DTSTAMP:20260425T163955Z
URL:https://www.maitlandchamber.com/events/details/chamber-closed-veteran-s-day-4302
END:VEVENT

END:VCALENDAR
