BEGIN:VCALENDAR
VERSION:2.0
PRODID:-//ChamberMaster//Event Calendar 2.0//EN
METHOD:PUBLISH
X-PUBLISHED-TTL:P3D
REFRESH-INTERVAL:P3D
CALSCALE:GREGORIAN
BEGIN:VEVENT
DTSTART:20170912T123000Z
DTEND:20170912T133000Z
X-MICROSOFT-CDO-ALLDAYEVENT:FALSE
SUMMARY:Coffee Connections! 2017
DESCRIPTION:DUE TO HURRICANE IRMA\n\nTHE SEPTEMBER\n\n\n\nCOFFEE CONNECTIONS!\n\nNetwork Group\n\n\n\nIS CANCELLED!!!\n\n\n\n\n\nMeets the 2nd Tuesday Monthly
X-ALT-DESC;FMTTYPE=text/html:<h4 style="text-align: center\;"><br />\n<strong><span style="font-size:18px\;"><span style="color:#FF0000\;"><span style="font-size:24px\;">DUE TO HURRICANE IRMA<br />\nTHE SEPTEMBER<br />\n<br />\nCOFFEE CONNECTIONS!<br />\nNetwork Group<br />\n<br />\nIS CANCELLED!!!</span></span><br />\n<br />\n<br />\nMeets the 2nd Tuesday Monthly</span></strong></h4>\n\n<h4 style="text-align: center\;"><br />\n<br />\n&nbsp\;</h4>\n
LOCATION:Chamber Office 110 N. Maitland Avenue Maitland\, FL 32751
UID:e.1857.4063
SEQUENCE:3
DTSTAMP:20260425T200906Z
URL:https://www.maitlandchamber.com/events/details/coffee-connections-2017-09-12-2017-4063
END:VEVENT

END:VCALENDAR
