BEGIN:VCALENDAR
VERSION:2.0
PRODID:-//ChamberMaster//Event Calendar 2.0//EN
METHOD:PUBLISH
X-PUBLISHED-TTL:P3D
REFRESH-INTERVAL:P3D
CALSCALE:GREGORIAN
BEGIN:VEVENT
DTSTART:20180122T180000Z
DTEND:20180122T190000Z
X-MICROSOFT-CDO-ALLDAYEVENT:FALSE
SUMMARY:Education Committee - 2018
DESCRIPTION:EDUCATION COMMITTEE\n\n\n\nMeets 4th Monday Monthly
X-ALT-DESC;FMTTYPE=text/html:<h4 style="text-align: center\;"><br />\n<strong><span style="font-size:18px\;">EDUCATION COMMITTEE<br />\n<br />\nMeets 4th Monday Monthly</span></strong></h4>\n
LOCATION:Chamber Office 110 N. Maitland Avenue Maitland\, FL 32751
UID:e.1857.4369
SEQUENCE:3
DTSTAMP:20260425T130512Z
URL:https://www.maitlandchamber.com/events/details/education-committee-2017-01-22-2018-4369
END:VEVENT

END:VCALENDAR
