BEGIN:VCALENDAR
VERSION:2.0
PRODID:-//ChamberMaster//Event Calendar 2.0//EN
METHOD:PUBLISH
X-PUBLISHED-TTL:P3D
REFRESH-INTERVAL:P3D
CALSCALE:GREGORIAN
BEGIN:VEVENT
DTSTART:20180803T180000Z
DTEND:20180803T190000Z
X-MICROSOFT-CDO-ALLDAYEVENT:FALSE
SUMMARY:Education Committee - 2018
DESCRIPTION:EDUCATION COMMITTEE\n\n\n\nMeets 4th Monday Monthly\n\n\n\nTHIS IS A ONE-TIME DATE CHANGE\n\nAUGUST 3\, 2018
X-ALT-DESC;FMTTYPE=text/html:<h4 style="text-align: center\;"><br />\n<strong><span style="font-size:18px\;">EDUCATION COMMITTEE<br />\n<br />\n<s>Meets 4th Monday Monthly</s></span></strong></h4>\n\n<h4 style="text-align: center\;"><br />\n<span style="font-size:18px\;"><span style="color:#FF0000\;"><em><strong>THIS IS A ONE-TIME DATE CHANGE</strong></em></span></span></h4>\n\n<h4 style="text-align: center\;"><em><span style="font-size:18px\;"><strong><span style="color:#FF0000\;">AUGUST 3\, 2018</span></strong></span></em></h4>\n
LOCATION:Chamber Office 110 N. Maitland Avenue Maitland\, FL 32751
UID:e.1857.4375
SEQUENCE:3
DTSTAMP:20260425T002718Z
URL:https://www.maitlandchamber.com/events/details/education-committee-2017-07-23-2018-4375
END:VEVENT

END:VCALENDAR
