BEGIN:VCALENDAR
VERSION:2.0
PRODID:-//ChamberMaster//Event Calendar 2.0//EN
METHOD:PUBLISH
X-PUBLISHED-TTL:P3D
REFRESH-INTERVAL:P3D
CALSCALE:GREGORIAN
BEGIN:VEVENT
DTSTART:20170503T130000Z
DTEND:20170503T143000Z
X-MICROSOFT-CDO-ALLDAYEVENT:FALSE
SUMMARY:Events Committee 2017
DESCRIPTION:The April 27th\n\nEvents Committee Meeting\n\nIs Rescheduled For\n\nWEDNESDAY\, MAY 3\n\n9:00 AM - 10:30 AM
X-ALT-DESC;FMTTYPE=text/html:&nbsp\;\n<h4 style="text-align: center\;"><span style="font-size:18px\;"><strong>The April 27th<br />\nEvents Committee Meeting<br />\nIs Rescheduled For<br />\nWEDNESDAY\, MAY 3<br />\n9:00 AM - 10:30 AM<br />\n&#8203\;</strong></span></h4>\n
LOCATION:Chamber Office 110 N. Maitland Avenue Maitland\, FL 32751
UID:e.1857.4070
SEQUENCE:3
DTSTAMP:20260426T032124Z
URL:https://www.maitlandchamber.com/events/details/events-committee-2017-04-27-2017-4070
END:VEVENT

END:VCALENDAR
