BEGIN:VCALENDAR
VERSION:2.0
PRODID:-//ChamberMaster//Event Calendar 2.0//EN
METHOD:PUBLISH
X-PUBLISHED-TTL:P3D
REFRESH-INTERVAL:P3D
CALSCALE:GREGORIAN
BEGIN:VEVENT
DTSTART:20180802T160000Z
DTEND:20180802T173000Z
X-MICROSOFT-CDO-ALLDAYEVENT:FALSE
SUMMARY:Events Committee 2018
DESCRIPTION:THIS IS A ONE-TIME\n\nMEETING DATE CHANGE\n\n\n\nTHE EVENTS COMMITTEE'S\n\nJULY 26th DATE WILL NOW BE\n\nTHURSDAY\, AUGUST 2nd\n\n\n\n\n\nEvents Committee\n\nWill Meet From\n\n12:00 PM - 1:30 PM\n\n\n\n4th Thursday Monthly
X-ALT-DESC;FMTTYPE=text/html:&nbsp\;\n<h4 style="text-align: center\;"><span style="font-size:18px\;"><strong><span style="font-size:20px\;"><em><span style="color:#FF0000\;">THIS IS A ONE-TIME<br />\nMEETING DATE CHANGE<br />\n<br />\nTHE EVENTS COMMITTEE&#39\;S<br />\nJULY 26th DATE WILL NOW BE</span><br />\n<span style="color:#FF0000\;">THURSDAY\, AUGUST 2nd</span></em></span><br />\n<br />\n<br />\nEvents Committee<br />\nWill Meet From<br />\n12:00 PM - 1:30 PM<br />\n<br />\n4th Thursday Monthly</strong></span></h4>\n
LOCATION:Chamber Office 110 N. Maitland Avenue Maitland\, FL 32751
UID:e.1857.4363
SEQUENCE:3
DTSTAMP:20260425T003304Z
URL:https://www.maitlandchamber.com/events/details/events-committee-2017-07-26-2018-4363
END:VEVENT

END:VCALENDAR
