BEGIN:VCALENDAR
VERSION:2.0
PRODID:-//ChamberMaster//Event Calendar 2.0//EN
METHOD:PUBLISH
X-PUBLISHED-TTL:P3D
REFRESH-INTERVAL:P3D
CALSCALE:GREGORIAN
BEGIN:VEVENT
DTSTART:20181029T160000Z
DTEND:20181029T173000Z
X-MICROSOFT-CDO-ALLDAYEVENT:FALSE
SUMMARY:Events Committee 2018
DESCRIPTION:THIS IS A ONE-TIME\n\nDATE CHANGE\n\n\n\nNEW DATE IS\n\nMONDAY\, OCTOBER 29TH\n\n12:00 PM - 1:30 PM\n\n\n\n\n\nEvents Committee\n\nWill Meet From\n\n12:00 PM - 1:30 PM\n\n\n\n4th Thursday Monthly
X-ALT-DESC;FMTTYPE=text/html:&nbsp\;\n<h4 style="text-align: center\;"><span style="font-size:18px\;"><strong><span style="color:#FF0000\;"><span style="font-size:20px\;">THIS IS A ONE-TIME<br />\nDATE CHANGE<br />\n<br />\nNEW DATE IS<br />\nMONDAY\, OCTOBER 29TH<br />\n12:00 PM - 1:30 PM</span></span><br />\n<br />\n<br />\nEvents Committee<br />\nWill Meet From<br />\n12:00 PM - 1:30 PM<br />\n<br />\n4th Thursday Monthly</strong></span></h4>\n
LOCATION:Chamber Office 110 N. Maitland Avenue Maitland\, FL 32751
UID:e.1857.4366
SEQUENCE:3
DTSTAMP:20260424T204004Z
URL:https://www.maitlandchamber.com/events/details/events-committee-2017-10-25-2018-4366
END:VEVENT

END:VCALENDAR
