BEGIN:VCALENDAR
VERSION:2.0
PRODID:-//ChamberMaster//Event Calendar 2.0//EN
METHOD:PUBLISH
X-PUBLISHED-TTL:P3D
REFRESH-INTERVAL:P3D
CALSCALE:GREGORIAN
BEGIN:VEVENT
DTSTART:20180125T170000Z
DTEND:20180125T183000Z
X-MICROSOFT-CDO-ALLDAYEVENT:FALSE
SUMMARY:Events Committee 2018
DESCRIPTION:Events Committee\n\nWill Meet From\n\n12:00 PM - 1:30 PM\n\n\n\n4th Thursday Monthly
X-ALT-DESC;FMTTYPE=text/html:&nbsp\;\n<h4 style="text-align: center\;"><span style="font-size:18px\;"><strong>Events Committee<br />\nWill Meet From<br />\n12:00 PM - 1:30 PM<br />\n<br />\n4th Thursday Monthly</strong></span></h4>\n
LOCATION:Chamber Office 110 N. Maitland Avenue Maitland\, FL 32751
UID:e.1857.4357
SEQUENCE:3
DTSTAMP:20260425T130337Z
URL:https://www.maitlandchamber.com/events/details/events-committee-2018-4357
END:VEVENT

END:VCALENDAR
