BEGIN:VCALENDAR
VERSION:2.0
PRODID:-//ChamberMaster//Event Calendar 2.0//EN
METHOD:PUBLISH
X-PUBLISHED-TTL:P3D
REFRESH-INTERVAL:P3D
CALSCALE:GREGORIAN
BEGIN:VEVENT
DTSTART:20190817T140000Z
DTEND:20190817T170000Z
X-MICROSOFT-CDO-ALLDAYEVENT:FALSE
SUMMARY:Everglades University August 17th Back to School Open House!
DESCRIPTION:Join us on Saturday\, August 17\, from 10AM-1PM\, for an Everglades University Back to School/Alumni\, Mini Health Fair event! Bring your families/guests for Free Hot Dogs\, Chips\, Drinks\, blood type\, glucose readings\, weight & height checks\, face paintings for kids\, giveaways\, raffles and program demonstrations (Alternative Medicine & Aviation). Information for all programs will be available.
X-ALT-DESC;FMTTYPE=text/html:<span style="font-family:calibri\,sans-serif"><span style="font-size:11.0pt">Join us on Saturday\, August 17\, from 10AM-1PM\, for an Everglades University Back to School/Alumni\, Mini Health Fair event! Bring your families/guests for Free Hot Dogs\, Chips\, Drinks\, blood type\, glucose readings\, weight &amp\; height checks\, face paintings for kids\, giveaways\, raffles and program demonstrations (Alternative Medicine &amp\; Aviation). Information for all programs will be available.</span></span>
LOCATION:850 Trafalgar Court\, Suite 100\, Maitland\, FL 32751
UID:e.1857.5231
SEQUENCE:3
DTSTAMP:20260424T045053Z
URL:https://www.maitlandchamber.com/events/details/everglades-university-august-17th-back-to-school-open-house-5231
END:VEVENT

END:VCALENDAR
