BEGIN:VCALENDAR
VERSION:2.0
PRODID:-//ChamberMaster//Event Calendar 2.0//EN
METHOD:PUBLISH
X-PUBLISHED-TTL:P3D
REFRESH-INTERVAL:P3D
CALSCALE:GREGORIAN
BEGIN:VEVENT
DTSTART:20190220T230000Z
DTEND:20190221T003000Z
X-MICROSOFT-CDO-ALLDAYEVENT:FALSE
SUMMARY:Fall In Love With Yourself This Valentine's!
DESCRIPTION:Beautiful ladies of the Maitland Chamber!! Take an hour and a half to designate just for yourself and join me...\n\nFall in Love with Yourself This Valentine's!\n\nBecause when YOU are nourished everything in life with flourish\n\n\n\nWednesday\, February 20\, 6-7:30\n\n291 Anchor Road\, Casselberry\, FL 32707\n\n\n\nEnjoy an evening dedicated to help women honor themselves\n\nGain tools and tips to be a "yes" for you!\n\nPartcipate in an open discussion and share with one another\n\nIndulge in healthy\, delicious bites\n\nTreat yourself to a massage and stay for prizes!\n\n\n\nCost: $25.00 per person\n\nRSVP By Monday\, February 19 (Limited Seating)\n\n\n\nQuestions: Email Talya@progressivetrans4mation.com\n\n\n\nRegister here:\n\nhttps://www.progressivetrans4mation.com/upcoming-events/2019/2/20/fall-in-love-with-yourself-this-valentines
X-ALT-DESC;FMTTYPE=text/html:<p>Beautiful ladies of the Maitland Chamber!! Take an hour and a half to designate just for yourself and join me...</p>\n\n<p>Fall in Love with Yourself This Valentine&#39\;s!<br />\nBecause when YOU are nourished everything in life with flourish<br />\n<br />\nWednesday\, February 20\, 6-7:30<br />\n291 Anchor Road\, Casselberry\, FL 32707<br />\n<br />\nEnjoy an evening dedicated to help women honor themselves<br />\nGain tools and tips to be a &quot\;yes&quot\; for you!<br />\nPartcipate in an open discussion and share with one another<br />\nIndulge in healthy\, delicious bites<br />\nTreat yourself to a massage and stay for prizes!<br />\n<br />\nCost: $25.00 per person<br />\nRSVP By Monday\, February 19 (Limited Seating)<br />\n<br />\nQuestions: Email Talya@progressivetrans4mation.com<br />\n<br />\nRegister here:<br />\nhttps://www.progressivetrans4mation.com/upcoming-events/2019/2/20/fall-in-love-with-yourself-this-valentines</p>\n
LOCATION:291 Anchor Road\, Casselberry\, FL 32707
UID:e.1857.5063
SEQUENCE:3
DTSTAMP:20260424T132557Z
URL:https://www.maitlandchamber.com/events/details/fall-in-love-with-yourself-this-valentine-s-5063
END:VEVENT

END:VCALENDAR
