BEGIN:VCALENDAR
VERSION:2.0
PRODID:-//ChamberMaster//Event Calendar 2.0//EN
METHOD:PUBLISH
X-PUBLISHED-TTL:P3D
REFRESH-INTERVAL:P3D
CALSCALE:GREGORIAN
BEGIN:VEVENT
DTSTART:20200131T233000Z
DTEND:20200201T013000Z
X-MICROSOFT-CDO-ALLDAYEVENT:FALSE
SUMMARY:GaMe NiGhT
DESCRIPTION:Join Us For Game Night\n\nCome to Your Infinite Wellness Center and Join us for  an evening of laughter\, fun and board games. ?\n\nBYOB ?\n\nFriday\, January 31st 6:30 pm\n\nSave your seat for just $5
X-ALT-DESC;FMTTYPE=text/html:<h3 style="text-align:center"><span style="color:rgb(0\, 0\, 0)">Join Us For Game Night</span></h3>\n\n<p style="text-align:center"><span style="color:rgb(0\, 0\, 0)">Come to Your Infinite Wellness Center and Join us for&nbsp\; an evening of laughter\, fun&nbsp\;and board games.&nbsp\;</span><span style="color:rgb(0\, 0\, 0)">?</span></p>\n\n<p style="text-align:center"><span style="color:rgb(0\, 0\, 0)">BYOB&nbsp\;</span><span style="color:rgb(0\, 0\, 0)">?</span></p>\n\n<p style="text-align:center"><span style="color:rgb(0\, 0\, 0)">Friday\, January 31st 6:30 pm</span></p>\n\n<p style="text-align:center"><span style="color:rgb(0\, 0\, 0)">Save your seat for just $5</span></p>\n
LOCATION:
UID:e.1857.5982
SEQUENCE:3
DTSTAMP:20260423T181414Z
URL:https://www.maitlandchamber.com/events/details/game-night-5982
END:VEVENT

END:VCALENDAR
