BEGIN:VCALENDAR
VERSION:2.0
PRODID:-//ChamberMaster//Event Calendar 2.0//EN
METHOD:PUBLISH
X-PUBLISHED-TTL:P3D
REFRESH-INTERVAL:P3D
CALSCALE:GREGORIAN
BEGIN:VEVENT
DTSTART:20191107T233000Z
DTEND:20191108T003000Z
X-MICROSOFT-CDO-ALLDAYEVENT:FALSE
SUMMARY:Get a Great Life
DESCRIPTION:Do You Want to Get a Great Life After an Abusive Relationship ?\n\n\n\n\n\n\n\nReceive tools to avoid loneliness\n\n\n\n\n\nLearn how to avoid dating another Abuser\n\n\n\n\n\nLearn how to avoid going back to the Abuser\n\n\n\n\n\nReplace emotional pain with fulfilling experiences\n\n\n\n\n\nCreate a Great Life that you want to live !\n\n\n\n\n\nPresented by:\n\nBill Brennan L.M.H.C.\, C.A.P.\n\n\n\nSeminar Cost: $10\n\n\n\nwww.maitlandwellnesscenter.com\n\n(407) 335-4994
X-ALT-DESC;FMTTYPE=text/html:<span style="color:rgb(29\, 33\, 41)\; font-family:helvetica\,arial\,sans-serif\; font-size:14px">Do You Want to Get a Great Life After an Abusive Relationship ?</span><br />\n<br />\n<br />\n<br />\n<span style="color:rgb(29\, 33\, 41)\; font-family:helvetica\,arial\,sans-serif\; font-size:14px">Receive tools to avoid loneliness</span><br />\n<br />\n<br />\n<span style="color:rgb(29\, 33\, 41)\; font-family:helvetica\,arial\,sans-serif\; font-size:14px">Learn how to avoid dating another Abuser</span><br />\n<br />\n<br />\n<span style="color:rgb(29\, 33\, 41)\; font-family:helvetica\,arial\,sans-serif\; font-size:14px">Learn how to avoid going back to the Abuser</span><br />\n<br />\n<br />\n<span style="color:rgb(29\, 33\, 41)\; font-family:helvetica\,arial\,sans-serif\; font-size:14px">Replace emotional pain with fulfilling experiences</span><br />\n<br />\n<br />\n<span style="color:rgb(29\, 33\, 41)\; font-family:helvetica\,arial\,sans-serif\; font-size:14px">Create a Great Life that you want to live !</span><br />\n<br />\n<br />\n<span style="color:rgb(29\, 33\, 41)\; font-family:helvetica\,arial\,sans-serif\; font-size:14px">Presented by:</span><br />\n<span style="color:rgb(29\, 33\, 41)\; font-family:helvetica\,arial\,sans-serif\; font-size:14px">Bill Brennan L.M.H.C.\, C.A.P.</span><br />\n<br />\n<span style="color:rgb(29\, 33\, 41)\; font-family:helvetica\,arial\,sans-serif\; font-size:14px">Seminar Cost: $10</span><br />\n<br />\n<a href="http://www.maitlandwellnesscenter.com/?fbclid=IwAR06prURytQ3eTPhvT5pEzqigF8V_c7TE92uxntUnoO_wkN5DQHBebbHUBY" rel="nofollow noopener" style="color: rgb(56\, 88\, 152)\; cursor: pointer\; text-decoration-line: none\; font-family: Helvetica\, Arial\, sans-serif\; font-size: 14px\; white-space: pre-wrap\;" target="_blank">www.maitlandwellnesscenter.com</a><br />\n<span style="color:rgb(29\, 33\, 41)\; font-family:helvetica\,arial\,sans-serif\; font-size:14px">(407) 335-4994</span>
LOCATION:Maitland Wellness Center 237 Lookout Place Maitland\, FL 32751
UID:e.1857.5673
SEQUENCE:3
DTSTAMP:20260423T232913Z
URL:https://www.maitlandchamber.com/events/details/get-a-great-life-5673
END:VEVENT

END:VCALENDAR
