BEGIN:VCALENDAR
VERSION:2.0
PRODID:-//ChamberMaster//Event Calendar 2.0//EN
METHOD:PUBLISH
X-PUBLISHED-TTL:P3D
REFRESH-INTERVAL:P3D
CALSCALE:GREGORIAN
BEGIN:VEVENT
DTSTART:20190803T130000Z
DTEND:20190803T170000Z
X-MICROSOFT-CDO-ALLDAYEVENT:FALSE
SUMMARY:Healing From Awareness Workshop
DESCRIPTION:Reduce or Eliminate physical pain\, stress\, anxiety\, and negative emotions.\n\n\n\nIn just under 3 hours\, you'll be healing yourself\, your friends\, family\, and even your pets. \n\n\n\nLearn a simple\, scientific healing technique that you can use right away.
X-ALT-DESC;FMTTYPE=text/html:Reduce or Eliminate physical pain\, stress\, anxiety\, and negative emotions.<br />\n<br />\nIn just under 3 hours\, you&#39\;ll be healing yourself\, your friends\, family\, and even your pets.&nbsp\;<br />\n<br />\nLearn a simple\, scientific healing technique that you can use right away.&nbsp\;<br />\n<br />\n&nbsp\;
LOCATION:235 S. Maitland Ave. Suite 218 Maitland\, Fl 32751
UID:e.1857.5229
SEQUENCE:3
DTSTAMP:20260424T045017Z
URL:https://www.maitlandchamber.com/events/details/healing-from-awareness-workshop-5229
END:VEVENT

END:VCALENDAR
