BEGIN:VCALENDAR
VERSION:2.0
PRODID:-//ChamberMaster//Event Calendar 2.0//EN
METHOD:PUBLISH
X-PUBLISHED-TTL:P3D
REFRESH-INTERVAL:P3D
CALSCALE:GREGORIAN
BEGIN:VEVENT
DTSTART:20220319T190000Z
DTEND:20220319T220000Z
X-MICROSOFT-CDO-ALLDAYEVENT:FALSE
SUMMARY:Hydrolux Wellness Lounge Anniversary Celebration
DESCRIPTION:Join us as we celebrate our 1-year anniversary. There will be food\, drinks\, music\, raffles\, and complimentary services.\n\n\n\n\n\n\nAbout this event\n\n\n\nCome explore our health and wellness services\, such as:\n\n\n	IV Vitamin Therapy\n	Massage Therapy\n	Body Contouring\n	Weight Loss Services\n	Sexual Wellness\n	Body Waxing\n	Facials\n\n\nWe will be offering complimentary B-12 shots\, massages\, laser lipo sessions\, body waxing\, and 3D body analysis scans!\n\nAlso\, meet the new addition to our team!
X-ALT-DESC;FMTTYPE=text/html:<div class="g-group l-lg-mar-bot-6 l-md-mar-bot-4  " style="margin: 0px 0px 30px\; padding: 0px\; font-size: 0px\; letter-spacing: 0px\; color: rgb(57\, 54\, 79)\; font-family: &quot\;Neue Plak&quot\;\, -apple-system\, BlinkMacSystemFont\, Roboto\, &quot\;Helvetica Neue&quot\;\, Helvetica\, Tahoma\, Arial\, sans-serif\;">\n<div class="g-cell g-cell-10-12 g-cell-md-1-1" style="margin: 0px\; padding: 0px 15px\; width: 485.656px\; box-sizing: border-box\; display: inline-block\; overflow: hidden\; vertical-align: top\; letter-spacing: 0.5px\; font-size: 0.933333rem\; line-height: 1.25rem\;">\n<div class="has-user-generated-content" style="margin: 0px\; padding: 0px\;">\n<div class="text-body-medium" data-automation="listing-event-description" style="margin: 0px\; padding: 0px\; font-size: 0.933333rem\; line-height: 1.25rem\;"><span style="font-weight: 700\; padding-top: 0px\;">Join us as we celebrate our 1-year anniversary. There will be food\, drinks\, music\, raffles\, and complimentary services.</span></div>\n</div>\n</div>\n</div>\n\n<div class="g-group l-mar-bot-6 l-sm-mar-bot-4" style="margin: 0px 0px 30px\; padding: 0px\; font-size: 0px\; letter-spacing: 0px\; color: rgb(57\, 54\, 79)\; font-family: &quot\;Neue Plak&quot\;\, -apple-system\, BlinkMacSystemFont\, Roboto\, &quot\;Helvetica Neue&quot\;\, Helvetica\, Tahoma\, Arial\, sans-serif\;">\n<div class="structured-content g-cell g-cell-10-12 g-cell-md-1-1" style="margin: 0px\; padding: 0px 15px\; width: 485.656px\; box-sizing: border-box\; display: inline-block\; overflow: hidden\; vertical-align: top\; letter-spacing: 0.5px\; font-size: 0.933333rem\; line-height: 1.25rem\;">\n<h2 class="text-body-large hide-small" style="margin: 0px -0.25px 0px 0px\; padding: 0px\; font-weight: 600\; font-size: 1.2rem\; line-height: 1.5rem\; letter-spacing: 0.25px\;">About this event</h2>\n\n<div class="has-user-generated-content" data-automation="about-this-event-sc" style="margin: 0px\; padding: 0px\;">\n<div class="structured-content-rich-text structured-content__module l-align-left l-mar-vert-6 l-sm-mar-vert-4 text-body-medium" style="margin: 30px 0px\; padding: 0px\; font-size: 0.933333rem\; line-height: 1.25rem\; text-rendering: optimizelegibility\;">\n<p style="margin: 0px\; padding: 0px\; color: rgb(111\, 114\, 135)\; font-size: 16px\; line-height: 1.5rem\;">Come explore our health and wellness services\, such as:</p>\n\n<ul style="margin: 0px\; padding-top: 10px\; padding-right: 0px\; padding-left: 2em\; list-style-position: initial\; list-style-image: initial\; color: rgb(111\, 114\, 135)\; font-size: 16px\; line-height: 1.5rem\;">\n	<li style="margin: 0px\; padding: 0px\;">IV Vitamin Therapy</li>\n	<li style="margin: 0px\; padding: 5px 0px 0px\;">Massage Therapy</li>\n	<li style="margin: 0px\; padding: 5px 0px 0px\;">Body Contouring</li>\n	<li style="margin: 0px\; padding: 5px 0px 0px\;">Weight Loss Services</li>\n	<li style="margin: 0px\; padding: 5px 0px 0px\;">Sexual Wellness</li>\n	<li style="margin: 0px\; padding: 5px 0px 0px\;">Body Waxing</li>\n	<li style="margin: 0px\; padding: 5px 0px 0px\;">Facials</li>\n</ul>\n\n<p style="margin: 0px\; padding: 10px 0px 0px\; color: rgb(111\, 114\, 135)\; font-size: 16px\; line-height: 1.5rem\;">We will be offering complimentary B-12 shots\, massages\, laser lipo sessions\, body waxing\, and 3D body analysis scans!</p>\n\n<p style="margin: 0px\; padding: 10px 0px 0px\; color: rgb(111\, 114\, 135)\; font-size: 16px\; line-height: 1.5rem\;">Also\, meet the new addition to our team!</p>\n</div>\n</div>\n</div>\n</div>\n
LOCATION:Hydrolux Wellness Lounge 405 Lake Howell Road Suite 1001 Maitland\, FL 32751
UID:e.1857.7144
SEQUENCE:3
DTSTAMP:20260419T190008Z
URL:https://www.maitlandchamber.com/events/details/hydrolux-wellness-lounge-anniversary-celebration-7144
END:VEVENT

END:VCALENDAR
