BEGIN:VCALENDAR
VERSION:2.0
PRODID:-//ChamberMaster//Event Calendar 2.0//EN
METHOD:PUBLISH
X-PUBLISHED-TTL:P3D
REFRESH-INTERVAL:P3D
CALSCALE:GREGORIAN
BEGIN:VEVENT
DTSTART:20201025T160000Z
DTEND:20201025T170000Z
X-MICROSOFT-CDO-ALLDAYEVENT:FALSE
SUMMARY:Maitland Chamber Sunday Funday Exercise Group
DESCRIPTION:Eat the Frog Fitness Maitland provides the most personalized small group fitness training experience in Central Florida! Our High Intensity\, Low Impact training is efficient and safe for all levels of fitness. Already the cleanest gym in Central Florida\, Eat The Frog Fitness Maitland has further bolstered its cleaning efforts and safety procedures to provide a safe environment for our members.\n\n\n\nOur individual training stations are up to 12 feet apart allowing proper social distance between you and other members. As a Maitland Chamber member\, enjoy an exclusive discount on your Unlimited training program! Join us on Sunday\, 10/25 at 12 PM for your first session. Text "FROGMC" at 407-565-2226 to get scheduled!
X-ALT-DESC;FMTTYPE=text/html:Eat the Frog Fitness Maitland provides the most personalized small group fitness training experience in Central Florida! Our High Intensity\, Low Impact training is efficient and safe for all levels of fitness. Already the cleanest gym in Central Florida\, Eat The Frog Fitness Maitland has further bolstered its cleaning efforts and safety procedures to provide a safe environment for our members.<br />\n<br />\nOur individual training stations are up to 12 feet apart allowing proper social distance between you and other members. As a Maitland Chamber member\, enjoy an exclusive discount on your Unlimited training program! Join us on Sunday\, 10/25 at 12 PM for your first session. Text &quot\;FROGMC&quot\; at 407-565-2226 to get scheduled!
LOCATION:Eat the Frog Fitness Maitland 400 N Orlando Ave\, Suite 107-108 Maitland\, Fl 32751
UID:e.1857.6256
SEQUENCE:3
DTSTAMP:20260423T014238Z
URL:https://www.maitlandchamber.com/events/details/maitland-chamber-sunday-funday-exercise-group-6256
END:VEVENT

END:VCALENDAR
