BEGIN:VCALENDAR
VERSION:2.0
PRODID:-//ChamberMaster//Event Calendar 2.0//EN
METHOD:PUBLISH
X-PUBLISHED-TTL:P3D
REFRESH-INTERVAL:P3D
CALSCALE:GREGORIAN
BEGIN:VEVENT
DTSTART:20170625T200000Z
DTEND:20170625T213000Z
X-MICROSOFT-CDO-ALLDAYEVENT:FALSE
SUMMARY:"Member Happening!" - Anchor Church Interest Social
DESCRIPTION:Let's dream together at our next interest social for what God can do in Maitland and the surrounding Central Florida area! \n\n\n\nWe will be firing up the grill and providing FREE food for everyone who attends. We'll be under the large pavilion near the playground\, and we'll even have someone to watch the kids. \n\n\n\nWe would love to see you there!
X-ALT-DESC;FMTTYPE=text/html:<span style="color:rgb(75\, 79\, 86)\; font-family:arial\,helvetica\,sans-serif\; font-size:14px">Let&#39\;s dream together at our next interest social for what God can do in Maitland and the surrounding Central Florida area!&nbsp\;</span><br />\n<br />\n<span style="color:rgb(75\, 79\, 86)\; font-family:arial\,helvetica\,sans-serif\; font-size:14px">We will be firing up the grill and providing FREE food for everyone who attends. We&#39\;ll be under the large pavilion near the playground\, and we&#39\;ll even have someone to watch the kids.&nbsp\;</span><br />\n<br />\n<span style="color:rgb(75\, 79\, 86)\; font-family:arial\,helvetica\,sans-serif\; font-size:14px">We would love to see you there!</span>
LOCATION:Maitland Community Park 1400 Mayo Ave. Maitland\, FL 32751
UID:e.1857.4271
SEQUENCE:3
DTSTAMP:20260426T013738Z
URL:https://www.maitlandchamber.com/events/details/member-happening-anchor-church-interest-social-06-25-2017-4271
END:VEVENT

END:VCALENDAR
