BEGIN:VCALENDAR
VERSION:2.0
PRODID:-//ChamberMaster//Event Calendar 2.0//EN
METHOD:PUBLISH
X-PUBLISHED-TTL:P3D
REFRESH-INTERVAL:P3D
CALSCALE:GREGORIAN
BEGIN:VEVENT
DTSTART:20170521T220000Z
DTEND:20170521T233000Z
X-MICROSOFT-CDO-ALLDAYEVENT:FALSE
SUMMARY:"Member Happening!" Anchor Church Interest Social
DESCRIPTION:Let's dream together at our next interest social for what God can do in Maitland and the surrounding Central Florida area! \n\n\n\nWe will be providing FREE food and ??Jeremiah's Ice Cream?? for everyone who attends. \n\n\n\nWe would love to see you there!
X-ALT-DESC;FMTTYPE=text/html:<span style="color:rgb(75\, 79\, 86)\; font-family:san francisco\,-apple-system\,system-ui\,.sfnstext-regular\,sans-serif\; font-size:14px">Let&#39\;s dream together at our next interest social for what God can do in Maitland and the surrounding Central Florida area!&nbsp\;</span><br />\n<br />\n<span style="color:rgb(75\, 79\, 86)\; font-family:san francisco\,-apple-system\,system-ui\,.sfnstext-regular\,sans-serif\; font-size:14px">We will be providing FREE food and ??Jeremiah&#39\;s Ice Cream?? for everyone who attends.&nbsp\;</span><br />\n<br />\n<span style="color:rgb(75\, 79\, 86)\; font-family:san francisco\,-apple-system\,system-ui\,.sfnstext-regular\,sans-serif\; font-size:14px">We would love to see you there!</span>
LOCATION:Germaine Marvel Building 210 W Packwood Ave\, Maitland\, FL 32751
UID:e.1857.4268
SEQUENCE:3
DTSTAMP:20260426T032424Z
URL:https://www.maitlandchamber.com/events/details/member-happening-anchor-church-interest-social-4268
END:VEVENT

END:VCALENDAR
