BEGIN:VCALENDAR
VERSION:2.0
PRODID:-//ChamberMaster//Event Calendar 2.0//EN
METHOD:PUBLISH
X-PUBLISHED-TTL:P3D
REFRESH-INTERVAL:P3D
CALSCALE:GREGORIAN
BEGIN:VEVENT
DTSTART:20181014T200000Z
DTEND:20181014T230000Z
X-MICROSOFT-CDO-ALLDAYEVENT:FALSE
SUMMARY:"Member Happening!" - Commissioner Emily Bonilla's Fiesta Cultural
DESCRIPTION:Want to celebrate Hispanic Heritage month? Come out to Commissioner Bonilla's Fiesta Cultural event on Oct 14th\, 2018 from 4-7 pm\, at South Econ Recreation Center\, 3850 South Econlockhatchee Trail\, Orlando\, FL 32829. Enjoy food\, entertainment and fun! IT IS FREE TO ATTEND! Free parking on site.
X-ALT-DESC;FMTTYPE=text/html:Want to celebrate Hispanic Heritage month? Come out to Commissioner Bonilla&#39\;s Fiesta Cultural event on Oct 14th\, 2018 from 4-7 pm\, at South Econ Recreation Center\, 3850 South Econlockhatchee Trail\, Orlando\, FL 32829. Enjoy food\, entertainment and fun! IT IS FREE TO ATTEND! Free parking on site.
LOCATION:South Econ Recreation Center\, 3850 South Econlockhatchee Trail\, Orlando\, FL 32829
UID:e.1857.4662
SEQUENCE:3
DTSTAMP:20260424T205418Z
URL:https://www.maitlandchamber.com/events/details/member-happening-commissioner-emily-bonilla-s-fiesta-cultural-4662
END:VEVENT

END:VCALENDAR
