BEGIN:VCALENDAR
VERSION:2.0
PRODID:-//ChamberMaster//Event Calendar 2.0//EN
METHOD:PUBLISH
X-PUBLISHED-TTL:P3D
REFRESH-INTERVAL:P3D
CALSCALE:GREGORIAN
BEGIN:VEVENT
DTSTART:20181020T140000Z
DTEND:20181020T190000Z
X-MICROSOFT-CDO-ALLDAYEVENT:FALSE
SUMMARY:"Member Happening!" - Goats and Ghouls: Commissioner Emily Bonilla's Farm Tour
DESCRIPTION:THE FARM TOUR PART OF THIS EVENT IS CURRENTLY SOLD OUT!!!! Join Commissioner Emily Bonilla in highlighting farms and gardens in District 5! Dress in costume and bring a treat bag\; the farms on the tour are going to be giving out candy. No masks\, please! Food trucks and exhibitors will be at the starting location for all guests (registered or not) to enjoy between 10am-3pm. Come out and have a spooky good time! Pre-registered guests for the tour will start at Blanchard Park where they will receive a map of participating farms\, scheduled tours\, and a wristband. Tour maps must be picked up between 10 a.m. to 11 a.m. PRE-REGISTRATION IS REQUIRED FOR THE TOUR PART OF THE EVENT! SPOTS ARE LIMITED! Pre-registration for the tour will end when all spots are filled. Please pre-register for the tour at this link: http://bit.ly/District5FarmTour
X-ALT-DESC;FMTTYPE=text/html:<br />\nTHE FARM TOUR PART OF THIS EVENT IS CURRENTLY SOLD OUT!!!! Join Commissioner Emily Bonilla in highlighting farms and gardens in District 5! Dress in costume and bring a treat bag\; the farms on the tour are going to be giving out candy. No masks\, please! Food trucks and exhibitors will be at the starting location for all guests (registered or not) to enjoy between 10am-3pm. Come out and have a spooky good time! Pre-registered guests for the tour will start at Blanchard Park where they will receive a map of participating farms\, scheduled tours\, and a wristband. Tour maps must be picked up between 10 a.m. to 11 a.m. PRE-REGISTRATION IS REQUIRED FOR THE TOUR PART OF THE EVENT! SPOTS ARE LIMITED! Pre-registration for the tour will end when all spots are filled. Please pre-register for the tour at this link: http://<a href="http://bit.ly/District5FarmTour" target="_blank">bit.ly/District5FarmTour</a><br />\n&nbsp\;
LOCATION:Jay Blanchard Park 2451 N. Dean Rd. Orlando\, Florida 32817
UID:e.1857.4664
SEQUENCE:3
DTSTAMP:20260424T205417Z
URL:https://www.maitlandchamber.com/events/details/member-happening-goats-and-ghouls-commissioner-emily-bonilla-s-farm-tour-4664
END:VEVENT

END:VCALENDAR
