BEGIN:VCALENDAR
VERSION:2.0
PRODID:-//ChamberMaster//Event Calendar 2.0//EN
METHOD:PUBLISH
X-PUBLISHED-TTL:P3D
REFRESH-INTERVAL:P3D
CALSCALE:GREGORIAN
BEGIN:VEVENT
DTSTART:20181005T194500Z
DTEND:20181005T204500Z
X-MICROSOFT-CDO-ALLDAYEVENT:FALSE
SUMMARY:"Member Happening!" - Kid's Boxing Open Gym (Non-Contact/ Trainer-Led)
DESCRIPTION:Kid's Boxing Open Gym\n\n\n\nEvery Friday Beginning October 5th\n\n& Continues Every Friday!\n\n\n\nKid's 8-12 years old\n\n\n\n$20 + tax per child\n\n\n\nNo reservation needed
X-ALT-DESC;FMTTYPE=text/html:&nbsp\;\n<h4 style="text-align: center\;"><strong><span style="font-size:14px\;">Kid&#39\;s Boxing Open Gym<br />\n<br />\nEvery Friday Beginning October 5th<br />\n&amp\; Continues Every Friday!<br />\n<br />\nKid&#39\;s 8-12 years old<br />\n<br />\n$20 + tax per child<br />\n<br />\nNo reservation needed</span></strong></h4>\n
LOCATION:Box Hiit Fitness 143 Atlantic Drive Maitland\, FL 32751
UID:e.1857.4461
SEQUENCE:3
DTSTAMP:20260424T205320Z
URL:https://www.maitlandchamber.com/events/details/member-happening-kid-s-boxing-open-gym-non-contact-trainer-led-4461
END:VEVENT

END:VCALENDAR
