BEGIN:VCALENDAR
VERSION:2.0
PRODID:-//ChamberMaster//Event Calendar 2.0//EN
METHOD:PUBLISH
X-PUBLISHED-TTL:P3D
REFRESH-INTERVAL:P3D
CALSCALE:GREGORIAN
BEGIN:VEVENT
DTSTART:20170516T220000Z
DTEND:20170516T224500Z
X-MICROSOFT-CDO-ALLDAYEVENT:FALSE
SUMMARY:"Member Happening!"-Mini Learn to Skate Session
DESCRIPTION:This 4-week mini session of Learn to Skate meets for a 30 minute group lesson followed by 15 minutes of supervised practice time. Classes begin in May 16\, 17 and June 3.
X-ALT-DESC;FMTTYPE=text/html:This 4-week mini session of Learn to Skate meets for a 30 minute group lesson followed by 15 minutes of supervised practice time. Classes begin in May 16\, 17 and June 3.&nbsp\;
LOCATION:RDV Sportsplex Ice Den 8701 Maitland Summit Blvd. Orlando\, FL 32810
UID:e.1857.4263
SEQUENCE:3
DTSTAMP:20260426T032348Z
URL:https://www.maitlandchamber.com/events/details/member-happening-mini-learn-to-skate-session-4263
END:VEVENT

END:VCALENDAR
