BEGIN:VCALENDAR
VERSION:2.0
PRODID:-//ChamberMaster//Event Calendar 2.0//EN
METHOD:PUBLISH
X-PUBLISHED-TTL:P3D
REFRESH-INTERVAL:P3D
CALSCALE:GREGORIAN
BEGIN:VEVENT
DTSTART:20170513T140000Z
DTEND:20170513T154500Z
X-MICROSOFT-CDO-ALLDAYEVENT:FALSE
SUMMARY:"Member Happening!"- Scout Day at RDV Sportsplex Ice Den
DESCRIPTION:All Scouts are invited to learn about our ice skating rink\, have a private on-ice lesson with our coaches and earn a fun patch at RDV Sportsplex Ice Den's Scout Day! Participants will also recieve admission to one public skating session.
X-ALT-DESC;FMTTYPE=text/html:All Scouts are invited to learn about our ice skating rink\, have a private on-ice lesson with our coaches and earn a fun patch at RDV Sportsplex Ice Den&#39\;s Scout Day! Participants will also recieve admission to one public skating session.
LOCATION:RDV Sportsplex Ice Den 8701 Maitland Summit Blvd. Orlando\, FL 32810
UID:e.1857.4262
SEQUENCE:3
DTSTAMP:20260426T032506Z
URL:https://www.maitlandchamber.com/events/details/member-happening-scout-day-at-rdv-sportsplex-ice-den-4262
END:VEVENT

END:VCALENDAR
