BEGIN:VCALENDAR
VERSION:2.0
PRODID:-//ChamberMaster//Event Calendar 2.0//EN
METHOD:PUBLISH
X-PUBLISHED-TTL:P3D
REFRESH-INTERVAL:P3D
CALSCALE:GREGORIAN
BEGIN:VEVENT
DTSTART:20180222T223000Z
DTEND:20180222T233000Z
X-MICROSOFT-CDO-ALLDAYEVENT:FALSE
SUMMARY:"Member Happening!" - Sip-N-Snack: Turn your Guilty Pleasures into Healthy Options!
DESCRIPTION:Sip-N-Snack: Turn your Guilty Pleasures into Healthy Options!\n\n\n\nEver heard of Faux-gurt?\n\nWant to try a Skinny Sangria?\n\nHealthy Buffalo Wings? Really?!?!\n\n\n\nFebruary's fun event features delicious hors d'oeuvres made by our resident Nutrition Expert\, Alexa Schmidt\, and Community Cosmetic Acupuncture by Dr. Robyn Calabrese.\n\n\n\nCall (407) 644-2990 to reserve your spot! (FREE to attend!)
X-ALT-DESC;FMTTYPE=text/html:Sip-N-Snack: Turn your Guilty Pleasures into Healthy Options!<br />\n<br />\nEver heard of Faux-gurt?<br />\nWant to try a Skinny Sangria?<br />\nHealthy Buffalo Wings? Really?!?!<br />\n<br />\nFebruary&#39\;s fun event features delicious hors d&#39\;oeuvres made by our resident Nutrition Expert\, Alexa Schmidt\, and Community Cosmetic Acupuncture by Dr. Robyn Calabrese.<br />\n<br />\nCall (407) 644-2990 to reserve your spot! (FREE to attend!)
LOCATION:Whole Family Healthcare 1201 Louisiana Avenue\, Suite E Winter Park\, FL 32789
UID:e.1857.4412
SEQUENCE:3
DTSTAMP:20260425T111805Z
URL:https://www.maitlandchamber.com/events/details/member-happening-sip-n-snack-turn-your-guilty-pleasures-into-healthy-options-4412
END:VEVENT

END:VCALENDAR
