BEGIN:VCALENDAR
VERSION:2.0
PRODID:-//ChamberMaster//Event Calendar 2.0//EN
METHOD:PUBLISH
X-PUBLISHED-TTL:P3D
REFRESH-INTERVAL:P3D
CALSCALE:GREGORIAN
BEGIN:VEVENT
DTSTART:20180215T230000Z
DTEND:20180216T010000Z
X-MICROSOFT-CDO-ALLDAYEVENT:FALSE
SUMMARY:"Member Happening!" - Tax Diversify Seminar
DESCRIPTION:https://www.eventbrite.com/e/tax-diversify-your-retirement-income-tickets-42642225043
X-ALT-DESC;FMTTYPE=text/html:<a href="https://www.eventbrite.com/e/tax-diversify-your-retirement-income-tickets-42642225043">https://www.eventbrite.com/e/tax-diversify-your-retirement-income-tickets-42642225043</a>
LOCATION:New York Life Office - 495 N Keller Rd\, Maitland\,FL 32751
UID:e.1857.4410
SEQUENCE:3
DTSTAMP:20260425T111635Z
URL:https://www.maitlandchamber.com/events/details/member-happening-tax-diversify-seminar-4410
END:VEVENT

END:VCALENDAR
