BEGIN:VCALENDAR
VERSION:2.0
PRODID:-//ChamberMaster//Event Calendar 2.0//EN
METHOD:PUBLISH
X-PUBLISHED-TTL:P3D
REFRESH-INTERVAL:P3D
CALSCALE:GREGORIAN
BEGIN:VEVENT
DTSTART:20180225T161500Z
DTEND:20180225T200000Z
X-MICROSOFT-CDO-ALLDAYEVENT:FALSE
SUMMARY:"Member Happening!" - The Central Florida Jewish Book Festival
DESCRIPTION:On Sunday\, February 25th\, 2018\, from 11:15am to 3:00pm\, The Roth Family JCC will host four distinguished authors for the Central Florida Jewish Book Festival\, part of a national network of programming sponsored by the Jewish Book Council. The lineup of authors for this year's festival include Michelle Edwards\, artist and PJ Library author of the children's book A Hat For Mrs. Goldman\, Pam Jenoff\, author of the #1 New York Times bestselling novel of historical fiction\, The Orphan's Tale\, Paul Goldberg\, noted author of newly released Florida-themed fiction novel The Chateau\, and Justin Loeber\, communications expert and author of the irreverent\, Millennial-approved self-help guide\, Get Out Of Your Own Way Guide To Life.
X-ALT-DESC;FMTTYPE=text/html:On Sunday\, February 25th\, 2018\, from 11:15am to 3:00pm\, The Roth Family JCC will host four distinguished authors for the Central Florida Jewish Book Festival\, part of a national network of programming sponsored by the Jewish Book Council. The lineup of authors for this year&rsquo\;s festival include Michelle Edwards\, artist and PJ Library author of the children&rsquo\;s book A Hat For Mrs. Goldman\, Pam Jenoff\, author of the #1 New York Times bestselling novel of historical fiction\, The Orphan&rsquo\;s Tale\, Paul Goldberg\, noted author of newly released Florida-themed fiction novel The Chateau\, and Justin Loeber\, communications expert and author of the irreverent\, Millennial-approved self-help guide\, Get Out Of Your Own Way Guide To Life.
LOCATION:The Roth Family Jewish Community Center 851 N Maitland Ave Maitland\, FL 32751
UID:e.1857.4406
SEQUENCE:3
DTSTAMP:20260425T111824Z
URL:https://www.maitlandchamber.com/events/details/member-happening-the-central-florida-jewish-book-festival-4406
END:VEVENT

END:VCALENDAR
