BEGIN:VCALENDAR
VERSION:2.0
PRODID:-//ChamberMaster//Event Calendar 2.0//EN
METHOD:PUBLISH
X-PUBLISHED-TTL:P3D
REFRESH-INTERVAL:P3D
CALSCALE:GREGORIAN
BEGIN:VEVENT
DTSTART:20180214T190000Z
DTEND:20180214T210000Z
X-MICROSOFT-CDO-ALLDAYEVENT:FALSE
SUMMARY:"Member Happening!" - Valentine's Wine & Chocolate Dash & Grab
DESCRIPTION:Wine & Chocolate Dash & Grab\nDash-in for a tour\, meet the staff\, and delight that very evening. Simply stop by and experience the reassuring\, homeline qualities that will serve your clients so well. Then we'll send you on your way with a complimentary bottle of wine and dessert to indulge on Valentine's Day.\n\nMAKE PLANS NOW TO ATTEND!
X-ALT-DESC;FMTTYPE=text/html:<h1><strong>Wine &amp\; Chocolate Dash &amp\; Grab</strong></h1>\n<span style="font-size:16px">Dash-in for a tour\, meet the staff\, and delight that very evening. Simply stop by and experience the reassuring\, homeline qualities that will serve your clients so well. Then we&#39\;ll send you on your way with a complimentary bottle of wine and dessert to indulge on Valentine&#39\;s Day.<br />\n<strong>MAKE PLANS NOW TO ATTEND!</strong></span>
LOCATION:Brookdale Lake Orienta 217 Boston Avenue Altamonte Springs\, FL 32701 Questions - Mark Pulaski / 407-312-3793
UID:e.1857.4405
SEQUENCE:3
DTSTAMP:20260425T111642Z
URL:https://www.maitlandchamber.com/events/details/member-happening-valentine-s-wine-chocolate-dash-grab-4405
END:VEVENT

END:VCALENDAR
