BEGIN:VCALENDAR
VERSION:2.0
PRODID:-//ChamberMaster//Event Calendar 2.0//EN
METHOD:PUBLISH
X-PUBLISHED-TTL:P3D
REFRESH-INTERVAL:P3D
CALSCALE:GREGORIAN
BEGIN:VEVENT
DTSTART:20180218T213000Z
DTEND:20180219T003000Z
X-MICROSOFT-CDO-ALLDAYEVENT:FALSE
SUMMARY:"Member Happening!" - Wind Beneath our Wings - Audubon Center for Birds of Prey
DESCRIPTION:Wind Beneath our Wings event benefiting Audubon Center for Birds of Prey Join Audubon for an evening to celebrate conservation in Florida including meet and greets with Florida raptors\, silent auction and special guest speaker Eric Draper\, Director\, Florida Park Service.
X-ALT-DESC;FMTTYPE=text/html:<h4 style="text-align: center\;"><br />\n<span style="font-size:16px\;">Wind Beneath our Wings event benefiting Audubon Center for Birds of Prey Join Audubon for an evening to celebrate conservation in Florida including meet and greets with Florida raptors\, silent auction and special guest speaker Eric Draper\, Director\, Florida Park Service.</span></h4>\n
LOCATION:Venue on the Lake/Maitland Civic Center 641 Maitland Ave S\, Maitland\, FL 32751
UID:e.1857.4403
SEQUENCE:3
DTSTAMP:20260425T111825Z
URL:https://www.maitlandchamber.com/events/details/member-happening-wind-beneath-our-wings-audubon-center-for-birds-of-prey-02-18-2018-4403
END:VEVENT

END:VCALENDAR
