BEGIN:VCALENDAR
VERSION:2.0
PRODID:-//ChamberMaster//Event Calendar 2.0//EN
METHOD:PUBLISH
X-PUBLISHED-TTL:P3D
REFRESH-INTERVAL:P3D
CALSCALE:GREGORIAN
BEGIN:VEVENT
DTSTART:20170608T040000Z
DTEND:20170608T190000Z
X-MICROSOFT-CDO-ALLDAYEVENT:FALSE
SUMMARY:Ribbon Cutting Ceremony - State Farm - Matthew Balady
DESCRIPTION:RIBBON CUTTING CELEBRATION!\n\n\n\nAt\n\n\n\nSTATE FARM - MATTHEW BALADY\n\nThe Event is an Open House\n\nWith The Ribbon Cutting Ceremony\n\nAt 12:30 PM\n\n\n\n469 S. Orlando Avenue\, Suite #106\n\nMaitland\, FL  32751\n\n\n\nCome out and Welcome This Great New Business To Maitland Chamber!\n\nLight Refreshments &Great Networking!\n\n\n\n\n\nFuture Members are welcome to attend up to two (2) events before we ask that you make the decision to become an Active Maitland Chamber Member!!!
X-ALT-DESC;FMTTYPE=text/html:<div style="text-align: center\;">&nbsp\;</div>\n\n<h4 style="text-align: center\;"><br />\n<span style="font-size:18px\;"><strong>RIBBON&nbsp\;CUTTING&nbsp\;CELEBRATION!<br />\n<br />\nAt<br />\n<br />\nSTATE FARM - MATTHEW BALADY</strong></span></h4>\n\n<h4 style="text-align: center\;"><span style="color:#FF0000\;"><span style="font-size:20px\;"><strong>The Event is an Open House<br />\nWith The Ribbon Cutting Ceremony<br />\nAt 12:30 PM</strong></span></span></h4>\n\n<h4 style="text-align: center\;"><br />\n<span style="font-size:14px\;"><strong>469 S. Orlando Avenue\, Suite #106<br />\nMaitland\, FL &nbsp\;32751<br />\n<br />\nCome out and Welcome This Great New Business To Maitland Chamber!<br />\nLight Refreshments &amp\;Great Networking!</strong></span></h4>\n\n<h4 style="text-align: center\;"><br />\n<br />\nFuture Members are welcome to attend up to two (2) events before we ask that you make the decision to become an Active Maitland Chamber Member!!!</h4>\n
LOCATION:469 S. Orlando Avenue Suite #106 Maitland\, FL 32751
UID:e.1857.4269
SEQUENCE:3
DTSTAMP:20260426T013733Z
URL:https://www.maitlandchamber.com/events/details/ribbon-cutting-ceremony-state-farm-matthew-balady-4269
END:VEVENT

END:VCALENDAR
