BEGIN:VCALENDAR
VERSION:2.0
PRODID:-//ChamberMaster//Event Calendar 2.0//EN
METHOD:PUBLISH
X-PUBLISHED-TTL:P3D
REFRESH-INTERVAL:P3D
CALSCALE:GREGORIAN
BEGIN:VEVENT
DTSTART:20180725T153000Z
DTEND:20180725T170000Z
X-MICROSOFT-CDO-ALLDAYEVENT:FALSE
SUMMARY:Wednesday Women Leads Group 2018
DESCRIPTION:THE JULY WEDNESDAY WOMEN\n\nLEADS GROUP\n\nHAS BEEN CANCELLED!\n\n\n\nPLEASE MAKE YOUR RESERVATIONS\n\nTO ATTEND OUR LEADS LUNCHEON\n\nON AUGUST 22nd!\n\n\n\n\n\n\nWEDNESDAY WOMEN\n\nLeads Group\n\nMonthly Luncheon\n\n \n\n \n \n\n\n\n\n\nThis Event Is Open To Business Women & Men\n\nCome Network With Others At\n\nThis Energetic Chamber Gathering\n\n\n\nAs Always...We Welcome Visitors\n\nTo Attend Up To Two (2) Chamber Functions\n\nBefore We Ask That You Make The Decision\n\nTo Become A Fellow Chamber Member!!!
X-ALT-DESC;FMTTYPE=text/html:<div style="text-align: center\;">\n<h4 font-size:="" style="font-weight: normal\; line-height: 1.2\; color: rgb(51\, 51\, 51)\; font-family: sans-serif\, Arial\, Verdana\, " text-align:="" trebuchet=""><br />\n<span style="color: rgb(255\, 0\, 0)\;"><strong><span style="font-size: 24px\;">THE JULY WEDNESDAY WOMEN<br />\nLEADS GROUP<br />\nHAS BEEN CANCELLED!<br />\n<br />\nPLEASE MAKE YOUR RESERVATIONS<br />\nTO ATTEND OUR LEADS LUNCHEON</span></strong></span><br />\n<span style="font-size: 24px\;"><span style="color: rgb(255\, 0\, 0)\;"><strong>ON AUGUST 22nd!</strong></span></span></h4>\n</div>\n\n<h4 style="text-align: center\;"><br />\n<br />\n<span style="font-size:18px\;"><strong>WEDNESDAY WOMEN<br />\nLeads Group</strong><br />\n<strong>Monthly Luncheon</strong></span></h4>\n\n<div style="text-align: center\;">&nbsp\;</div>\n\n<h4 style="text-align: center\;">&nbsp\;</h4>\n&nbsp\;\n\n<div style="text-align: center\;"><br />\n<br />\nThis Event Is Open To Business Women &amp\; Men</div>\n\n<div style="text-align: center\;">Come Network With Others&nbsp\;At<br />\nThis Energetic Chamber Gathering<br />\n<br />\nAs Always...We Welcome Visitors<br />\nTo Attend Up To Two (2) Chamber Functions<br />\nBefore We Ask That You Make The Decision<br />\nTo Become A Fellow Chamber Member!!!<br />\n&nbsp\;</div>\n
LOCATION:Leads Luncheon Location: Homewood Suites by Hilton Address: 290 Southhall Lane\, Maitland\, FL 32751
UID:e.1857.4398
SEQUENCE:3
DTSTAMP:20260425T021859Z
URL:https://www.maitlandchamber.com/events/details/wednesday-women-leads-group-2018-07-25-2018-4398
END:VEVENT

END:VCALENDAR
